Workbook

Sheet キャラシ
R1: veｒ1A
B3: 名前 | D3: サンプル剣士 | L3: 種族 | N3: 樹人
B5: 職業 | D5: 双剣士 | J5: 所属ギルド | M5: 傭兵
B7: 習得技 | D7: 速度／対象範囲／対象数／必中or▼判定技能／ダメージ／補足
C8: 軽近接技 | F8: =VLOOKUP(C8,'習得技・ギルド'!$B$2:$C$14,2,FALSE) -> 速度1／近／単体／必中／2d6
C9: 重近接技 | F9: =VLOOKUP(C9,'習得技・ギルド'!$B$2:$C$14,2,FALSE) -> 速度3／近／複数／▼近接戦闘／2d6／★必殺技可
C10: 軽遠隔技 | F10: =VLOOKUP(C10,'習得技・ギルド'!$B$2:$C$14,2,FALSE) -> 速度1／遠／単体／必中／1d8
B12: 魔法 | D12: =VLOOKUP($B$13,'習得技・ギルド'!$B$17:$F$20,2,FALSE) -> ＿
B13: ＿
B16: 基礎技能 | D16: 体 | F16: 技 | H16: 知 | J16: 感 | L16: 心 | N16: 各+ | O16: 4 | P16: 武器 | R16: 双剣／投げナイフ
B17: 自由点 | D17: 12 | F17: 3 | H17: 2 | J17: 6 | L17: 1 | N17: =24-SUM($D$17:$M$17) -> 0
B18: 合計 | D18: =SUM(D17,$O$16) -> 16 | F18: =SUM(F17,$O$16) -> 7 | H18: =SUM(H17,$O$16) -> 6 | J18: =SUM(J17,$O$16) -> 10 | L18: =SUM(L17,$O$16) -> 5 | Q18: ＨＰ | R18: =15+D18 -> 31 | V18: ラック | W18: 21
M19: ※自由配分点24／各技能の最大値は12／判定時は基礎技能×5
B20: 特性 | T20: 所持金 | V20: 328 | X20: G
B21: 翼 | E21: =VLOOKUP(B21,'特性表'!$B$3:$C$33,2,FALSE) -> 【体】身軽に+20の補正値/多少飛べる。 | T21: 資産 | X21: G
K23: 取得上限80 最低値1 自由点70(補正値に記入）
C24: 詳細技能 | F24: 技能点 | H24: 補正値 | J24: 合計 | V24: 基本装備枠
C25: 近接戦闘 | F25: 78 | J25: =SUM(F25:I25) -> 78 | M25: 水痘、砥石、財布、植物用栄養剤
B26: 体 | C26: 応急手当 | F26: 1 | J26: =SUM(F26:I26) -> 1
B27: =$D$18*10 -> 160 | C27: 力 | F27: 1 | H27: 20 | J27: =SUM(F27:I27) -> 21
C28: 身軽 | F28: 40 | H28: 20 | J28: =SUM(F28:I28) -> 60 | M28: 消耗品枠 | T28: 毒消し 1
B29: 残 | C29: 尋問 | F29: 1 | J29: =SUM(F29:I29) -> 1 | M29: 投げナイフ | T29: 携帯食料 3
B30: =$B$27-SUM(F25:G30) -> 0 | C30: 俊敏 | F30: 39 | J30: =SUM(F30:I30) -> 39
C31: 狙い撃ち | F31: 20 | H31: 20 | J31: =SUM(F31:I31) -> 40
B32: 技 | C32: 気配 | F32: 2 | H32: 20 | J32: =SUM(F32:I32) -> 22 | M32: 好き／嫌い
B33: =$F$18*10 -> 70 | C33: 制作 | F33: 1 | J33: =SUM(F33:I33) -> 1 | M33: 好き／ | O33: 太陽、水、湿り気
C34: 器用 | F34: 1 | J34: =SUM(F34:I34) -> 1 | M34: 嫌い／ | O34: 火、乾燥、寒さ
B35: 残 | C35: 操縦 | F35: 1 | J35: =SUM(F35:I35) -> 1
B36: =$B$33-SUM(F31:G36) -> 0 | C36: 野生 | F36: 45 | H36: 10 | J36: =SUM(F36:I36) -> 55 | M36: メモ
C37: 禁術 | F37: 1 | J37: =SUM(F37:I37) -> 1 | M37: サンプルキャラ
B38: 知 | C38: 分析 | F38: 5 | J38: =SUM(F38:I38) -> 5 | M38: 本体は頭の花な樹人。のので下の妖精っぽい部分はオマケ。
B39: =$H$18*10 -> 60 | C39: 交渉 | F39: 29 | J39: =SUM(F39:I39) -> 29 | M39: そのためゴリゴリの物理戦闘キャラ
C40: 識字 | F40: 15 | J40: =SUM(F40:I40) -> 15
B41: 残 | C41: 学術 | F41: 5 | J41: =SUM(F41:I41) -> 5
B42: =$B$39-SUM(F37:G42) -> 0 | C42: 考古学 | F42: 5 | J42: =SUM(F42:I42) -> 5
C43: 秘術 | F43: 1 | J43: =SUM(F43:I43) -> 1
B44: 感 | C44: 直感 | F44: 66 | J44: =SUM(F44:I44) -> 66
B45: =$J$18*10 -> 100 | C45: 視覚 | F45: 21 | J45: =SUM(F45:I45) -> 21
C46: 聴覚 | F46: 1 | J46: =SUM(F46:I46) -> 1
B47: 残 | C47: 芸術 | F47: 10 | J47: =SUM(F47:I47) -> 10
B48: =$B$45-SUM(F43:G48) -> 0 | C48: 味覚 | F48: 1 | J48: =SUM(F48:I48) -> 1 | M48: 冒険記録 | P48: 日付、シナリオ名、獲得技能点数など
C49: 奇跡 | F49: 1 | J49: =SUM(F49:I49) -> 1
B50: 心 | C50: 信用 | F50: 1 | J50: =SUM(F50:I50) -> 1
B51: =$L$18*10 -> 50 | C51: 意思 | F51: 45 | J51: =SUM(F51:I51) -> 45
C52: 心理 | F52: 1 | J52: =SUM(F52:I52) -> 1
B53: 残 | C53: 浄化 | F53: 1 | J53: =SUM(F53:I53) -> 1
B54: =$B$51-SUM(F49:G54) -> 0 | C54: 応援 | F54: 1 | J54: =SUM(F54:I54) -> 1
D55: 合計 | F55: =SUM(F25:G54) -> 440 | H55: =SUM(H25:I54) -> 90
B59: ※注意事項 セルをいじると、キャラコマ出力ツールに異常をきたす場合があります。
E60: 文字数の関係で、習得技などはキャラコマに出ませんので出力後、手動記入お願いします。
E62: 特性を自由記入する場合、プルダウンの一番下、もしくは上にある鉛筆マークに似た編集ボタンを押し、ルールを削除して手打ちしてください。
E64: 自由点は補正値の欄に記入してください。

Sheet キャラコマ作成ツール
A1: ='キャラシ'!D3 -> サンプル剣士 | B1: ='キャラシ'!R18 -> 31 | C1: ='キャラシ'!D18 -> 16 | D1: ='キャラシ'!J25 -> 78 | G1: =" {""kind"":""character"",""data"":{""name"":"""&A1&""",""memo"":""名前:"&A1&" / 職業:"&A2&"\n─所持品─\n"&A3&"\n"&A4&"\n"&A5&"\n"&A6&"\n"&A7&"\n"",""initiative"":0,""externalUrl"":"""",""status"":[{""label"":""HP"",""value"":"""&B1&""",""max"":"""&B1&"""},{""label"":""ラック"",""value"":"""&B2&""",""max"":"""&B2&"""},{""label"":""所持金"",""value"":"""&B3&"""}]," -> {"kind":"character","data":{"name":"サンプル剣士","memo":"名前:サンプル剣士 / 職業:双剣士\n─所持品─\n毒消し 1\n投げナイフ\n携帯食料 3\n\n\n","initiative":0,"externalUrl":"","status":[{"label":"HP","value":"31","max":"31"},{"label":"ラック","value":"21","max":"21"},{"label":"所持金","value":"328"}],
A2: ='キャラシ'!D5 -> 双剣士 | B2: ='キャラシ'!W18 -> 21 | C2: ='キャラシ'!F18 -> 7 | D2: ='キャラシ'!J26 -> 1
A3: ='キャラシ'!T28 -> 毒消し 1 | B3: ='キャラシ'!V20 -> 328 | C3: ='キャラシ'!H18 -> 6 | D3: ='キャラシ'!J27 -> 21
A4: ='キャラシ'!M29 -> 投げナイフ | C4: ='キャラシ'!J18 -> 10 | D4: ='キャラシ'!J28 -> 60 | G4: ="""params"":[{""label"":""体"",""value"":"""&C1&"""},{""label"":""技"",""value"":"""&C2&"""},{""label"":""知"",""value"":"""&C3&"""},{""label"":""感"",""value"":"""&C4&"""},{""label"":""心"",""value"":"""&C5&"""}]," -> "params":[{"label":"体","value":"16"},{"label":"技","value":"7"},{"label":"知","value":"6"},{"label":"感","value":"10"},{"label":"心","value":"5"}],
A5: ='キャラシ'!T29 -> 携帯食料 3 | C5: ='キャラシ'!L18 -> 5 | D5: ='キャラシ'!J29 -> 1 | G5: ="""active"":true,""secret"":false,""invisible"":false,""hideStatus"":false,""commands"":""─パラメータ変動─\n:HP-\n:ラック-\n:所持金-\n─判定(詳細技能)─\n体\nCCB<=("&D1&") 【近接戦闘】\nCCB<=("&D2&") 【応急手当】\nCCB<=("&D3&") 【力】\nCCB<=("&D4&") 【身軽】\nCCB<=("&D5&") 【尋問】\nCCB<=("&D6&") 【俊敏】\n技\nCCB<=("&D7&") 【狙い撃ち】\nCCB<=("&D8&") 【気配】\nCCB<=("&D9&") 【制作】\nCCB<=("&D10&") 【器用】\nCCB<=("&D11&") 【操縦】\nCCB<=("&D12&") 【野生】\n知\nCCB<=("&D13&") 【禁術】\nCCB<=("&D14&") 【分析】\nCCB<=("&D15&") 【交渉】\nCCB<=("&D16&") 【識字】\nCCB<=("&D17&") 【学術】\nCCB<=("&D18&") 【考古学】\n感\nCCB<=("&D19&") 【秘術】\nCCB<=("&D20&") 【直感】\nCCB<=("&D21&") 【視覚】\nCCB<=("&D22&") 【聴覚】\nCCB<=("&D23&") 【芸術】\nCCB<=("&D24&") 【味覚】\n心\nCCB<=("&D25&") 【奇跡】\nCCB<=("&D26&") 【信用】\nCCB<=("&D27&") 【意思】\nCCB<=("&D28&") 【心理】\nCCB<=("&D29&") 【浄化】\nCCB<=("&D30&") 【応援】\n─判定(基礎技能)─\nCCB<=({体}*5) 【体×5】 \nCCB<=({技}*5) 【技×5】 \nCCB<=({知}*5) 【知×5】 \nCCB<=({感}*5) 【感×5】 \nCCB<=({心}*5) 【心×5】 \n""}}" -> "active":true,"secret":false,"invisible":false,"hideStatus":false,"commands":"─パラメータ変動─\n:HP-\n:ラック-\n:所持金-\n─判定(詳細技能)─\n体\nCCB<=(78) 【近接戦闘】\nCCB<=(1) 【応急手当】\nCCB<=(21) 【力】\nCCB<=(60) 【身軽】\nCCB<=(1) 【尋問】\nCCB<=(39) 【俊敏】\n技\nCCB<=(40) 【狙い撃ち】\nCCB<=(22) 【気配】\nCCB<=(1) 【制作】\nCCB<=(1) 【器用】\nCCB<=(1) 【操縦】\nCCB<=(55) 【野生】\n知\nCCB<=(1) 【禁術】\nCCB<=(5) 【分析】\nCCB<=(29) 【交渉】\nCCB<=(15) 【識字】\nCCB<=(5) 【学術】\nCCB<=(5) 【考古学】\n感\nCCB<=(1) 【秘術】\nCCB<=(66) 【直感】\nCCB<=(21) 【視覚】\nCCB<=(1) 【聴覚】\nCCB<=(10) 【芸術】\nCCB<=(1) 【味覚】\n心\nCCB<=(1) 【奇跡】\nCCB<=(1) 【信用】\nCCB<=(45) 【意思】\nCCB<=(1) 【心理】\nCCB<=(1) 【浄化】\nCCB<=(1) 【応援】\n─判定(基礎技能)─\nCCB<=({体}*5) 【体×5】 \nCCB<=({技}*5) 【技×5】 \nCCB<=({知}*5) 【知×5】 \nCCB<=({感}*5) 【感×5】 \nCCB<=({心}*5) 【心×5】 \n"}}
A6: ='キャラシ'!M30 | D6: ='キャラシ'!J30 -> 39
A7: ='キャラシ'!T30 | D7: ='キャラシ'!J31 -> 40
D8: ='キャラシ'!J32 -> 22
D9: ='キャラシ'!J33 -> 1
D10: ='キャラシ'!J34 -> 1
D11: ='キャラシ'!J35 -> 1
D12: ='キャラシ'!J36 -> 55
D13: ='キャラシ'!J37 -> 1
D14: ='キャラシ'!J38 -> 5
D15: ='キャラシ'!J39 -> 29 | G15: 赤色の部分には触れないでください！！！！！！
D16: ='キャラシ'!J40 -> 15
D17: ='キャラシ'!J41 -> 5
D18: ='キャラシ'!J42 -> 5
D19: ='キャラシ'!J43 -> 1
D20: ='キャラシ'!J44 -> 66
D21: ='キャラシ'!J45 -> 21 | G21: ↓キャラコマ出力用データ。右クリックコピーで直接ココフォリアに貼り付けて使ってください
D22: ='キャラシ'!J46 -> 1 | G22: =G1&G4&G5 -> {"kind":"character","data":{"name":"サンプル剣士","memo":"名前:サンプル剣士 / 職業:双剣士\n─所持品─\n毒消し 1\n投げナイフ\n携帯食料 3\n\n\n","initiative":0,"externalUrl":"","status":[{"label":"HP","value":"31","max":"31"},{"label":"ラック","value":"21","max":"21"},{"label":"所持金","value":"328"}],"params":[{"label":"体","value":"16"},{"label":"技","value":"7"},{"label":"知","value":"6"},{"label":"感","value":"10"},{"label":"心","value":"5"}],"active":true,"secret":false,"invisible":false,"hideStatus":false,"commands":"─パラメータ変動─\n:HP-\n:ラック-\n:所持金-\n─判定(詳細技能)─\n体\nCCB<=(78) 【近接戦闘】\nCCB<=(1) 【応急手当】\nCCB<=(21) 【力】\nCCB<=(60) 【身軽】\nCCB<=(1) 【尋問】\nCCB<=(39) 【俊敏】\n技\nCCB<=(40) 【狙い撃ち】\nCCB<=(22) 【気配】\nCCB<=(1) 【制作】\nCCB<=(1) 【器用】\nCCB<=(1) 【操縦】\nCCB<=(55) 【野生】\n知\nCCB<=(1) 【禁術】\nCCB<=(5) 【分析】\nCCB<=(29) 【交渉】\nCCB<=(15) 【識字】\nCCB<=(5) 【学術】\nCCB<=(5) 【考古学】\n感\nCCB<=(1) 【秘術】\nCCB<=(66) 【直感】\nCCB<=(21) 【視覚】\nCCB<=(1) 【聴覚】\nCCB<=(10) 【芸術】\nCCB<=(1) 【味覚】\n心\nCCB<=(1) 【奇跡】\nCCB<=(1) 【信用】\nCCB<=(45) 【意思】\nCCB<=(1) 【心理】\nCCB<=(1) 【浄化】\nCCB<=(1) 【応援】\n─判定(基礎技能)─\nCCB<=({体}*5) 【体×5】 \nCCB<=({技}*5) 【技×5】 \nCCB<=({知}*5) 【知×5】 \nCCB<=({感}*5) 【感×5】 \nCCB<=({心}*5) 【心×5】 \n"}}
D23: ='キャラシ'!J47 -> 10
D24: ='キャラシ'!J48 -> 1
D25: ='キャラシ'!J49 -> 1
D26: ='キャラシ'!J50 -> 1
D27: ='キャラシ'!J51 -> 45
D28: ='キャラシ'!J52 -> 1
D29: ='キャラシ'!J53 -> 1
D30: ='キャラシ'!J54 -> 1
G33: チャパレのみコピーする場合は以下 | L33: 魔法は以下を右クリックコピー
G34: 技能判定 | L34: ='キャラシ'!D12 -> ＿
G35: ="CCB<=("&'キャラシ'!J25&") 【"&'キャラシ'!C25&"】" -> CCB<=(78) 【近接戦闘】
G36: ="CCB<=("&'キャラシ'!J26&") 【"&'キャラシ'!C26&"】" -> CCB<=(1) 【応急手当】
G37: ="CCB<=("&'キャラシ'!J27&") 【"&'キャラシ'!C27&"】" -> CCB<=(21) 【力】
G38: ="CCB<=("&'キャラシ'!J28&") 【"&'キャラシ'!C28&"】" -> CCB<=(60) 【身軽】
G39: ="CCB<=("&'キャラシ'!J29&") 【"&'キャラシ'!C29&"】" -> CCB<=(1) 【尋問】
G40: ="CCB<=("&'キャラシ'!J30&") 【"&'キャラシ'!C30&"】" -> CCB<=(39) 【俊敏】
G41: ="CCB<=("&'キャラシ'!J31&") 【"&'キャラシ'!C31&"】" -> CCB<=(40) 【狙い撃ち】
G42: ="CCB<=("&'キャラシ'!J32&") 【"&'キャラシ'!C32&"】" -> CCB<=(22) 【気配】
G43: ="CCB<=("&'キャラシ'!J33&") 【"&'キャラシ'!C33&"】" -> CCB<=(1) 【制作】
G44: ="CCB<=("&'キャラシ'!J34&") 【"&'キャラシ'!C34&"】" -> CCB<=(1) 【器用】
G45: ="CCB<=("&'キャラシ'!J35&") 【"&'キャラシ'!C35&"】" -> CCB<=(1) 【操縦】
G46: ="CCB<=("&'キャラシ'!J36&") 【"&'キャラシ'!C36&"】" -> CCB<=(55) 【野生】
... G64: ="CCB<=("&'キャラシ'!J54&") 【"&'キャラシ'!C54&"】" -> CCB<=(1) 【応援】

Sheet 習得技・ギルド
B1: 習得技分類
B2: ＿ | C2: ＿ | I2: ギルド一覧 | J2: ギルド加入特典
B3: 《近接系》 | C3: 速度／対象範囲／対象数／必中or▼判定技能／ダメージ／補足 | I3: ―
B4: 軽近接技 | C4: 速度1／近／単体／必中／2d6 | I4: 傭兵 | J4: 1シナリオにつき、名工の研ぎ、仕立いずれかひとつ、半額
B5: 重近接技 | C5: 速度3／近／複数／▼近接戦闘／2d6／★必殺技可 | I5: 狩人 | J5: 矢、投げナイフなどの消耗品無償支給
B6: 軽遠隔技 | C6: 速度1／遠／単体／必中／1d8 | I6: 禁術 | J6: 技能補助系札、1シナリオ1枚半額。
B7: 重遠隔技 | C7: 速度3／遠／複数／▼狙い撃ち1d8／★必殺技可 | I7: 秘術 | J7: 1シナリオ1枚、契約札支給。
B8: 《魔法系》 | I8: 正教 | J8: 1シナリオ1枚、加護札支給
B9: 弱禁術 | C9: 速度1／単体／▼禁術／HP3 | I9: 止まり木 | J9: ギルド運営の宿場と食堂の利用料半額
B10: 強禁術 | C10: 速度3／複数／▼禁術／HP5 | I10: 無所属 | J10: なし
B11: 弱秘術 | C11: 速度1／召喚数1／▼秘術／契約札1
B12: 強秘術 | C12: 速度3／召喚数2／▼秘術／契約札2
B13: 小奇跡 | C13: 速度1／単体／▼奇跡／ラック1
B14: 大奇跡 | C14: 速度3／複数／▼奇跡／ラック3
B17: ＿ | C17: ＿
B18: 禁術 | C18: ・集中 遠 1d20の詳細技能値を任意の1ラウンド分味方に付与。 ・闇の牙 遠 1d10+消費体力点の攻撃 ・影縛り 近 敵を任意の1ラウンド行動不能にする。
B19: 秘術 | C19: ・ゴーレム 近 HP10のゴーレムを前衛に召喚。戦闘行動は行わない。自分が前衛にいた場合、後衛に下がっても良い。 ・サラマンダー 近 単体 火を吐き、1d12の攻撃。サラマンダーは攻撃後に消滅する。 ・ウンディーネ 遠 単体 水を対象に纏わせ、弱点を暴く。対象者は以降被ダメージ2倍。ウンディーネは直後に消滅する。
B20: 奇跡 | C20: ・癒しの光 近 1d12＋消費ラック点の回復 ・裁きの雷 遠 1d12＋消費ラック点の攻撃 ・加護の輝き 近 味方もしくは自分のダメージ（回復値）判定時、追加で1d付与。効果は任意の1ラウンド。

Sheet 基本消耗品
B1: 名称 | C1: 価格（G） | D1: 効果 | E1: 効果（略記）
A2: 薬品類 | B2: 薬草 | C2: 100 | D2: 単体のHP5回復 | E2: 単回復5
A3: 所持上限1種につき3個 | B3: 回復薬 | C3: 200 | D3: 単体のHP10回復 | E3: 単回復10
B4: 特効薬 | C4: 600 | D4: 単体のHP全回復 | E4: 単回復全
B5: 毒消し | C5: 100 | D5: 単体の状態異常回復 | E5: 単回復異常
B6: 万能薬 | C6: 1000 | D6: 味方全体のHP15回復 状態異常回復 | E6: 全回復15 異常
A7: 技能補助類 | B7: 活力札 | C7: 200 | D7: 【体】力、身軽、俊敏いずれかの判定に1度だけ＋10の補正
A8: 所持上限1種につき2個 | B8: 六眼札 | C8: 500 | D8: 【感】直感の判定に一度だけ＋20の補正値
B9: 鷹目札 | C9: 200 | D9: 【感】視覚の判定に一度だけ＋10の補正値
B10: 饒舌札 | C10: 200 | D10: 【知】交渉の判定に一度だけ＋10の補正値
B11: 魔除札 | C11: 300 | D11: 【心】浄化の判定に一度だけ＋20の補正値
B12: 鱗札 | C12: 500 | D12: 現ラウンド物理ダメージ半減、切り捨て
B13: 魔防札 | C13: 500 | D13: 現ラウンド魔法系ダメージ半減、切り捨て
B14: 棘札 | C14: 500 | D14: 現ラウンドダメージ+1D6
B15: 全体化札 | C15: 1000 | D15: 現ラウンド、軽、小、弱技が全体化する。秘術は効果無し
B16: 集中札 | C16: 900 | D16: 現ラウンド、技能判定に＋20の補正値
B17: 加護札 | C17: 600 | D17: 即座にラックを1D4回復。上限突破なし。
B18: 救急箱 | C18: 100 | D18: 【体】応急手当の回復値に＋3の固定値
A19: 職業系 | B19: 矢束 | C19: 150 | D19: 旅1回分 ※投げナイフなどの消耗品も同価格帯。
B20: 契約札 | C20: 70 | D20: 所持上限5 秘術使いの必需品。
B21: 開錠具 | C21: 50 | D21: 所持上限3 ピッキングツール。使い捨て。失敗でも消費する。鍵開けや罠の解除。
A22: 一般消耗品 | B22: 燃料油 | C22: 50 | D22: 旅1回分。ランタンの給油や松明の作成などに。
B23: ロープ | C23: 10 | D23: 1本5M。高所への移動や、的の捕縛など。用途は様々。
A24: 食料品 | B24: 携帯食料 | C24: 4 | D24: HP5回復。使用は同時に2個まで。
A25: 所持上限1種につき4個 | B25: 防寒実 | C25: 5 | D25: 食べると30分の間、寒さを感じなくなる。
B26: 防暑実 | C26: 5 | D26: 食べると30分の間、暑さを感じなくなる。
A27: 武器、防具系 | B27: 防寒具 | C27: 100 | D27: 寒冷地のデバフ解除。シナリオ使い捨て。
B28: 砂漠装備 | C28: 250 | D28: 砂漠でのデバフ解除。シナリオ使い捨て。
B29: 名工の研ぎ | C29: 600 | D29: 武器ダメージに+2 効果は1シナリオ中。
B30: 名工の仕立 | C30: 600 | D30: 物理ダメージ2軽減 効果は1シナリオ中。

Sheet 特性表
B2: 特性 | C2: 補正
B3: ＿ | C3: ＿
B4: 《自由記入》 | C4: いずれかの詳細技能に+20の補正値
B5: 復讐者 | C5: いずれかの戦闘系技能に+20の補正値
B6: 大柄 | C6: 好きな【体】系技能に+20の補正値/200cm～250cm
B7: 悠久 | C7: 好きな【知】識系技能に+20の補正値/長命種
B8: 鋭敏 | C8: 気配、捜索、聴覚のどれか一つに+20の補正値
B9: 慈愛 | C9: 【体】応急手当に+20の補正値
B10: 強靭 | C10: 【体】力に+20の補正値
B11: 翼 | C11: 【体】身軽に+20の補正値/多少飛べる。
B12: 軍事経験 | C12: 【体】尋問に+20の補正値
B13: 健脚 | C13: 【体】俊敏に+20の補正値
... B33: 狂戦士 | C33: HPが0になっても気絶しない。

Sheet 詳細技能
B1: 取得上限80まで 最低値1 自由点70
B2: 基礎 | C2: 詳細技能 | D2: 説明
B3: 体 | C3: 近接戦闘 | D3: 近接攻撃の命中判定。戦闘に関する知識。
C4: 応急手当 | D4: 成功で1d6の回復。1つの傷に1回まで。
C5: 力 | D5: 力の判定。重量物を動かす。相手を拘束する等。
C6: 身軽 | D6: 高く飛ぶ。飛び込む。水泳などの判定。
C7: 尋問 | D7: 力で相手を威圧する。敵の口を割る。軍事知識。
C8: 俊敏 | D8: 素早く動く。罠の回避や、戦闘からの逃亡など。
B9: 技 | C9: 狙い撃ち | D9: 遠距離攻撃の命中判定。投擲など。
C10: 気配 | D10: 物陰に隠れる、物体を隠す等。
C11: 制作 | D11: 物体の作成や修繕の判定。ハシゴ、編みカゴ、獣用の罠等。
C12: 器用 | D12: 手先の判定。鍵の開錠。罠の解除。壊れやすい品を扱う等。
C13: 操縦 | D13: 乗り物の操縦判定。馬車、乗馬、船、騎竜等
C14: 野生 | D14: 嗅覚の判定。動物と心を通わせる。簡単な植物知識。
B15: 知 | C15: 禁術 | D15: 闇魔法系統の知識、魔物知識。禁術使用時の成功判定。
C16: 分析 | D16: 思考による判別。調査。薬品知識。数学知識。
C17: 交渉 | D17: 相手から情報を引き出したり、金銭の交渉に使用。話術。
C18: 識字 | D18: 難解な本を読み解く。該当の資料を見つけ出す。筆記する。
C19: 学術 | D19: 生物学、地理学、人類学などの知識
C20: 考古学 | D20: 古代文字の解読、歴史などの知識、歴史的物品の鑑定など。
B21: 感 | C21: 秘術 | D21: 精霊魔法系統の知識、錬金術知識。秘術使用時の成功判定。
C22: 直感 | D22: 危機察知や、アイディア、ひらめきなど。
C23: 視覚 | D23: 視覚に関する判定。物を見つける。（目視で）追跡する等。
C24: 聴覚 | D24: 音に関する判定。人混みから有益な情報を拾い集める等。
C25: 芸術 | D25: 楽器の演奏や絵画の制作。芸術知識。美術品の鑑定。
C26: 味覚 | D26: 毒味や味、調理技能、それに関わる知識。
B27: 心 | C27: 奇跡 | D27: 神聖魔法系統の知識、教会知識。奇跡使用時の成功判定。
C28: 信用 | D28: 相手を信頼させる力。社会的地位。身分、実績の証明。
C29: 意思 | D29: 心の強さ。精神防御。プレッシャーの判定。
C30: 心理 | D30: 嘘を見抜く。精神状態を探る、落ち着かせる。
C31: 浄化 | D31: 小規模な呪いの解除。退魔。魔除けの知識。
C32: 応援 | D32: 成功で応援した対象の判定に+補正。GM許可必須。補正値はGM判断。

Sheet 印刷用キャラシ 
R1: veｒ1A
B3: 名前 | L3: 種族
B5: 職業 | J5: 所属ギルド
B7: 習得技 | D7: 速度／対象範囲／対象数／必中or▼判定技能／ダメージ／補足
B12: 魔法
B16: 基礎技能 | D16: 体 | F16: 技 | H16: 知 | J16: 感 | L16: 心 | N16: 各+ | O16: 4 | P16: 武器
B17: 自由点
B18: 合計 | Q18: ＨＰ | V18: ラック
M19: ※自由配分点24／各技能の最大値は12／判定時は基礎技能×5
B20: 特性 | T20: 所持金 | X20: G
T21: 資産 | X21: G
K23: 取得上限80 最低値1 自由点70(補正値に記入）
C24: 詳細技能 | F24: 技能点 | H24: 補正値 | J24: 合計 | V24: 基本装備枠
C25: 近接戦闘
B26: 体 | C26: 応急手当
C27: 力
C28: 身軽 | M28: 消耗品枠
C29: 尋問
C30: 俊敏
C31: 狙い撃ち
B32: 技 | C32: 気配 | M32: 好き／嫌い
C33: 制作 | M33: 好き／
C34: 器用 | M34: 嫌い／
C35: 操縦
C36: 野生 | M36: メモ
C37: 禁術
B38: 知 | C38: 分析
C39: 交渉
C40: 識字
C41: 学術
C42: 考古学
C43: 秘術
B44: 感 | C44: 直感
C45: 視覚
C46: 聴覚
C47: 芸術
C48: 味覚 | M48: 冒険記録 | P48: 日付、シナリオ名、獲得技能点数など
C49: 奇跡
B50: 心 | C50: 信用
C51: 意思
C52: 心理
C53: 浄化
C54: 応援
